BEGIN:VCALENDAR
VERSION:2.0
PRODID:-//Hinckley Hillwalking &amp; Climbing - ECPv6.13.2.1//NONSGML v1.0//EN
CALSCALE:GREGORIAN
METHOD:PUBLISH
X-ORIGINAL-URL:https://hinckleymc.org
X-WR-CALDESC:Events for Hinckley Hillwalking &amp; Climbing
REFRESH-INTERVAL;VALUE=DURATION:PT1H
X-Robots-Tag:noindex
X-PUBLISHED-TTL:PT1H
BEGIN:VTIMEZONE
TZID:Europe/London
BEGIN:DAYLIGHT
TZOFFSETFROM:+0000
TZOFFSETTO:+0100
TZNAME:BST
DTSTART:20260329T010000
END:DAYLIGHT
BEGIN:STANDARD
TZOFFSETFROM:+0100
TZOFFSETTO:+0000
TZNAME:GMT
DTSTART:20261025T010000
END:STANDARD
END:VTIMEZONE
BEGIN:VEVENT
DTSTART;TZID=Europe/London:20260303T180000
DTEND;TZID=Europe/London:20260303T210000
DTSTAMP:20260425T044128
CREATED:20250708T112205Z
LAST-MODIFIED:20260302T103113Z
UID:2601-1772560800-1772571600@hinckleymc.org
SUMMARY:Climbing - Every Tuesday - Warwick Wall 6pm
DESCRIPTION:You can usually find our merry band of climbers at our local wall most weeks\, from around 6-9 pm. If the weather’s playing nice\, we might even head to the Peak District on a Sunday for some outdoor action\, or mix it up at one of the other indoor walls nearby. Join our Facebook page/chatroom for more info. \nJust a heads-up: everyone needs to book in at Warwick and pay for parking. It’s easier to sort that online before you arrive! \nGoing? See our Facebook page (Events) for more details! \n 
URL:https://hinckleymc.org/event/climbing-every-tuesday-warwick-wall-6pm-8/
LOCATION:Bear Rock\, Sports & Wellness Centre\, Leighfield Road\, Coventry\, CV4 7EU
ORGANIZER;CN="Ian Edwards":MAILTO:info@hinckleymc.org
END:VEVENT
BEGIN:VEVENT
DTSTART;TZID=Europe/London:20260312T203000
DTEND;TZID=Europe/London:20260312T220000
DTSTAMP:20260425T044128
CREATED:20230806T211735Z
LAST-MODIFIED:20260302T103224Z
UID:2295-1773347400-1773352800@hinckleymc.org
SUMMARY:Thurs Night Meet Up - The Plough Hinckley 8.30pm
DESCRIPTION:Our regular informal and weekly meet up at the local pub … plotting our next adventures!\nWe meet here every Thursday evening EXCEPT the last Thursday of the month when we meet at a different pub in the Hinckley area (but only when it is quiz night at The Plough – the last Thurs of the month -Details will be published in advance of the pub we’ll be at on this website or our Facebook page) \nPark outside or in the church car park opposite. Ask the friendly bar staff where we’re sitting.
URL:https://hinckleymc.org/event/thurs-night-meet-up-the-plough-hinckley-8-30pm/
LOCATION:The Plough Inn\, 24 Leicester Rd\, Hinckley\, Leics\, LE10 1LS
ORGANIZER;CN="Ian Edwards":MAILTO:info@hinckleymc.org
END:VEVENT
BEGIN:VEVENT
DTSTART;TZID=Europe/London:20260326T160000
DTEND;TZID=Europe/London:20260329T100000
DTSTAMP:20260425T044128
CREATED:20190919T140327Z
LAST-MODIFIED:20250814T140549Z
UID:1558-1774540800-1774778400@hinckleymc.org
SUMMARY:PATTERDALE WEEKEND  Lake District - 3 nights
DESCRIPTION:Meet Info Patterdale PDF \n \nBEDS: 20 Mixed in 2 dorms – and we reserve the smaller room for the ladies. Don’t forget your sleeping bag. Additional night is booked for Thurs. \nCOST: £tbc a night (min 2) payable on the weekend\, plus around £4 for a two course dinner. Bring your own beer or wine (or tea) and don’t forget your other food for Fri/Sat. and out on the hill. \nSTUFF you need to know:  Well equipped hut with cookers\, showers\, loos\, heating and open fire. Good drying facilities\, own car-park and is an excellent place to relax and enjoy the best of the Lakes. “One of the best”. If oversubscribed\, we can often obtain the members room\, but won’t know until last minute (so book early!). \nPUB : White Lion\, Patterdale – we’ll probably be there Fri night\, & group cater on Sat night. (NOTE: Additional night has been booked for Thursday if you can get time off). \nHOW TO BOOK: Email Ed at info@hinckleymc.org or you could also enter “going” on our Facebook site\, but please note that putting “interested” is not the same as “going”.  A reserve list will operate when meets are full and members will have priority.
URL:https://hinckleymc.org/event/patterdale-weekend-lake-district/
LOCATION:George Starkey Hut\, Main Street\, Patterdale\, Cumbria\, CA11 0NL\, United Kingdom
ORGANIZER;CN="Ian Edwards":MAILTO:info@hinckleymc.org
END:VEVENT
END:VCALENDAR