BEGIN:VCALENDAR
VERSION:2.0
PRODID:-//Hinckley Hillwalking &amp; Climbing - ECPv6.13.2.1//NONSGML v1.0//EN
CALSCALE:GREGORIAN
METHOD:PUBLISH
X-WR-CALNAME:Hinckley Hillwalking &amp; Climbing
X-ORIGINAL-URL:https://hinckleymc.org
X-WR-CALDESC:Events for Hinckley Hillwalking &amp; Climbing
REFRESH-INTERVAL;VALUE=DURATION:PT1H
X-Robots-Tag:noindex
X-PUBLISHED-TTL:PT1H
BEGIN:VTIMEZONE
TZID:Europe/London
BEGIN:DAYLIGHT
TZOFFSETFROM:+0000
TZOFFSETTO:+0100
TZNAME:BST
DTSTART:20250330T010000
END:DAYLIGHT
BEGIN:STANDARD
TZOFFSETFROM:+0100
TZOFFSETTO:+0000
TZNAME:GMT
DTSTART:20251026T010000
END:STANDARD
END:VTIMEZONE
BEGIN:VEVENT
DTSTART;VALUE=DATE:20251003
DTEND;VALUE=DATE:20251006
DTSTAMP:20260425T113940
CREATED:20190514T220736Z
LAST-MODIFIED:20250617T204656Z
UID:1143-1759449600-1759708799@hinckleymc.org
SUMMARY:PRESIDENTS MEET Dovedale
DESCRIPTION:Hut Meet Info \n \nBEDS: 50 beds in 12 bedrooms of 2’s; 3’s; 5’s and 6/10. Sleeping bags required. Full central heating.\nCOST: £tbc for the weekend\, payable in advance. Includes 3 course dinner on Sat night\, and nibbles in the kitchen Friday. Bring your own beer or wine (free tea) and don’t forget your other food for Fri/Sat.\nSTUFF you need to know: Good standard of accommodation\, well equipped centre with cookers\, showers\, loos\, games room. Good drying facilities\, own car-park and is an excellent place to relax and enjoy the best of the Peak District and our infamous Presidents Meet.\nPUBS: The Dovedale Bar\, Izaac Walton Hotel – 5min walk. \nGoing? See our Facebook page (Events) for more details!
URL:https://hinckleymc.org/event/presidents-meet-dovedale/
LOCATION:Dovedale House\, DE6 2AZ\, United Kingdom
ORGANIZER;CN="Ian Edwards":MAILTO:info@hinckleymc.org
END:VEVENT
BEGIN:VEVENT
DTSTART;TZID=Europe/London:20251019T100000
DTEND;TZID=Europe/London:20251019T160000
DTSTAMP:20260425T113940
CREATED:20200101T232657Z
LAST-MODIFIED:20250617T204353Z
UID:1740-1760868000-1760889600@hinckleymc.org
SUMMARY:Daywalk - Winchcombe & Hailes Abbey - Cotswolds
DESCRIPTION:Join Us for a Historic Cotswold Walk!\nGet ready for a relatively easy walk along part of the Cotswold Way\, combining splendid scenery with considerable historic appeal. We’ll be making a pub stop at the 15th-century Plaisterers Arms. \nMeet at the free National Trust car park opposite the entrance to Hailes Abbey for a prompt 10 AM departure. \nGoing? See our Facebook page (Events) for more details! \n 
URL:https://hinckleymc.org/event/daywalk-winchcombe-hailes-abbey-cotswolds/
LOCATION:Hailes Abbey\, Hailes\, Cheltenham\, GL54 5PB
ORGANIZER;CN="Ian Edwards":MAILTO:info@hinckleymc.org
END:VEVENT
BEGIN:VEVENT
DTSTART;TZID=Europe/London:20251031T160000
DTEND;TZID=Europe/London:20251102T160000
DTSTAMP:20260425T113940
CREATED:20191210T115935Z
LAST-MODIFIED:20241014T140804Z
UID:1714-1761926400-1762099200@hinckleymc.org
SUMMARY:RHYD DDU WEEKEND  N Snowdonia
DESCRIPTION:Meet Info Rhyd Ddu PDF \n \nBEDS: 16 in 3 rooms. \nCOST: £40 for the weekend plus £3/£4 for a group meal if we cater Sat night. \nSTUFF you need to know:  We’ve been going here for over 30 years\,  and it’s well equipped with cookers\, loos\, good heating and drying facilities and is an excellent place to relax after a day on the hill/crag. There’s a large lounge with an open fire. As usual\, we will have a room for the ladies. \nAPRES WALK: A fine selection of home baked cakes and tea/coffee before…. \nSAT NIGHT: The HMC Catering Corps will  be possibly be in action – excellent tucker. \nBEST PUB : The Cwellyn Arms – not cheap but  hey\, it’s only over the road. The Tanronnen in Beddgelert is also good\, but be early for food. We will be in the Cwellyn Arms on Friday evening. \nHOW TO BOOK: For security contact the Meets Booking Sec on info@hinckleymc.org . You could also enter “going” on our Facebook page but please note that “interested” is not the same as “going”. You will receive confirmation by email. A reserve list will operate when meets are full and members will have priority
URL:https://hinckleymc.org/event/rhyd-ddu-weekend-n-snowdonia/
LOCATION:Tan Yr Wyddfa\, 2 Edward Terrace\, Rhyd Ddu\, LL54 6TN
ORGANIZER;CN="Ian Edwards":MAILTO:info@hinckleymc.org
END:VEVENT
END:VCALENDAR