BEGIN:VCALENDAR
VERSION:2.0
PRODID:-//Hinckley Hillwalking &amp; Climbing - ECPv6.13.2.1//NONSGML v1.0//EN
CALSCALE:GREGORIAN
METHOD:PUBLISH
X-WR-CALNAME:Hinckley Hillwalking &amp; Climbing
X-ORIGINAL-URL:https://hinckleymc.org
X-WR-CALDESC:Events for Hinckley Hillwalking &amp; Climbing
REFRESH-INTERVAL;VALUE=DURATION:PT1H
X-Robots-Tag:noindex
X-PUBLISHED-TTL:PT1H
BEGIN:VTIMEZONE
TZID:Europe/London
BEGIN:DAYLIGHT
TZOFFSETFROM:+0000
TZOFFSETTO:+0100
TZNAME:BST
DTSTART:20250330T010000
END:DAYLIGHT
BEGIN:STANDARD
TZOFFSETFROM:+0100
TZOFFSETTO:+0000
TZNAME:GMT
DTSTART:20251026T010000
END:STANDARD
END:VTIMEZONE
BEGIN:VEVENT
DTSTART;TZID=Europe/London:20250709T181500
DTEND;TZID=Europe/London:20250709T210000
DTSTAMP:20260425T155839
CREATED:20190820T144102Z
LAST-MODIFIED:20250708T112349Z
UID:1451-1752084900-1752094800@hinckleymc.org
SUMMARY:Wed Evening Pub Walk George & Dragon Stoke Golding 6.30pm
DESCRIPTION:Usual craic… rock up for 6.30pm departure. “Park ‘n Stride” for a 1.5-2hr walk followed by refreshments – free beer!\nAll welcome\, always free\, and open to non-members.\nIf you can’t make the walk\, join us later for drinks in the sunny garden. Small car park – car share if you are able.
URL:https://hinckleymc.org/event/wed-evening-pub-walk-george-dragon-stoke-golding/
LOCATION:The George & Dragon\, Station Road\, Stoke Golding\, CV13 6HB
END:VEVENT
BEGIN:VEVENT
DTSTART;TZID=Europe/London:20250716T183000
DTEND;TZID=Europe/London:20250716T210000
DTSTAMP:20260425T155839
CREATED:20250708T112553Z
LAST-MODIFIED:20250708T112553Z
UID:2483-1752690600-1752699600@hinckleymc.org
SUMMARY:Wed Evening Pub Walk - The Rising Sun Shackerstone 6:30pm
DESCRIPTION:Usual craic- rock up for a 6:30pm departure for a 1.5-2hrs max walk followed by refreshments in this lovely old country inn. If you can’t make the walk – why not join us about 8ish for a beer either in the lounge or the beer garden. Smallish car park\, please park on the road\, or around the corner.\nHMC – supporting your local.
URL:https://hinckleymc.org/event/wed-evening-pub-walk-the-rising-sun-shackerstone-630pm/
LOCATION:Rising Sun\, Church Road\, Shackerstone\, CV13 6NN
ORGANIZER;CN="Ian Edwards":MAILTO:info@hinckleymc.org
END:VEVENT
BEGIN:VEVENT
DTSTART;TZID=Europe/London:20250723T183000
DTEND;TZID=Europe/London:20250723T210000
DTSTAMP:20260425T155839
CREATED:20210514T105341Z
LAST-MODIFIED:20250708T112710Z
UID:1889-1753295400-1753304400@hinckleymc.org
SUMMARY:Wed Evening Pub Walk Queens Arms Leire
DESCRIPTION:Usual craic… rock up for 6.30pm departure. “Park ‘n Stride” for a 1.5-2hr walk followed by refreshments – free beer! All welcome\, always free\, and open to non-members.\nIf you can’t make the walk\, join us later for drinks in the sunny garden at the side. (Smallish car park so park on the road if you can so the regulars can park)
URL:https://hinckleymc.org/event/wed-evening-pub-walk-queens-arms-leire/
LOCATION:Queens Arms\, Main Street\, Leire\, LE17 5HF
ORGANIZER;CN="Ian Edwards":MAILTO:info@hinckleymc.org
END:VEVENT
END:VCALENDAR