BEGIN:VCALENDAR
VERSION:2.0
PRODID:-//Hinckley Hillwalking &amp; Climbing - ECPv6.13.2.1//NONSGML v1.0//EN
CALSCALE:GREGORIAN
METHOD:PUBLISH
X-ORIGINAL-URL:https://hinckleymc.org
X-WR-CALDESC:Events for Hinckley Hillwalking &amp; Climbing
REFRESH-INTERVAL;VALUE=DURATION:PT1H
X-Robots-Tag:noindex
X-PUBLISHED-TTL:PT1H
BEGIN:VTIMEZONE
TZID:Europe/London
BEGIN:DAYLIGHT
TZOFFSETFROM:+0000
TZOFFSETTO:+0100
TZNAME:BST
DTSTART:20250330T010000
END:DAYLIGHT
BEGIN:STANDARD
TZOFFSETFROM:+0100
TZOFFSETTO:+0000
TZNAME:GMT
DTSTART:20251026T010000
END:STANDARD
END:VTIMEZONE
BEGIN:VEVENT
DTSTART;TZID=Europe/London:20250604T183000
DTEND;TZID=Europe/London:20250604T210000
DTSTAMP:20260425T172735
CREATED:20210717T101107Z
LAST-MODIFIED:20250603T142036Z
UID:1922-1749061800-1749070800@hinckleymc.org
SUMMARY:Wed Evening Pub Walk - Blue Lion Witherley
DESCRIPTION:Usual craic… rock up for 6.30pm departure. “Park ‘n Stride” for a 1.5-2hr walk followed by refreshments – free beer! Park considerately\, preferably not on the car park. All welcome\, always free\, and open to non-members.\nIf you can’t make the walk\, join us later for drinks in the sunny beer garden and sample one of the four cask ales
URL:https://hinckleymc.org/event/wed-evening-pub-walk-blue-lion-witherley/
LOCATION:Blue Lion\, 8 Church Road\, Witherley\, Atherstone\, CV9 3NA
ORGANIZER;CN="Ian Edwards":MAILTO:info@hinckleymc.org
END:VEVENT
BEGIN:VEVENT
DTSTART;TZID=Europe/London:20250610T180000
DTEND;TZID=Europe/London:20250610T210000
DTSTAMP:20260425T172735
CREATED:20240811T195906Z
LAST-MODIFIED:20250603T142213Z
UID:2472-1749578400-1749589200@hinckleymc.org
SUMMARY:Climbing - Every Tuesday - Warwick Wall 6pm
DESCRIPTION:A merry band of climbers can be found at our local wall most weeks from around 6-9 pm. If the weather is good they’ll maybe head up to the Peak District on a Sunday\, or for a change\, one of the other indoor walls in the area. \n(Everyone will need to book in at Warwick\, and pay £1 parking\, which is easier online) \n 
URL:https://hinckleymc.org/event/climbing-every-tuesday-warwick-wall-6pm-2/
LOCATION:Bear Rock\, Sports & Wellness Centre\, Leighfield Road\, Coventry\, CV4 7EU
ORGANIZER;CN="Ian Edwards":MAILTO:info@hinckleymc.org
END:VEVENT
BEGIN:VEVENT
DTSTART;TZID=Europe/London:20250611T183000
DTEND;TZID=Europe/London:20250611T210000
DTSTAMP:20260425T172735
CREATED:20210717T095224Z
LAST-MODIFIED:20250606T211455Z
UID:1913-1749666600-1749675600@hinckleymc.org
SUMMARY:Wed Evening Pub Walk - Elephant & Castle Thurlaston
DESCRIPTION:Usual craic – rock up\, 6.30pm\, “Park n Stride” for a 1.5 -2hr stroll. Don’t be late\, and try and car share if you can as its a smallish car park. All welcome\, completely free as usual\, including the beer!\nIf you can’t make the walk\, join us in the pub/beer garden later. HMC – supporting your Local!
URL:https://hinckleymc.org/event/wed-evening-pub-walk-elephant-castle-thurlaston/
LOCATION:Elaphant & Castle\, Main Street\, Thurlaston\, LE9 7TP\, United Kingdom
ORGANIZER;CN="Ian Edwards":MAILTO:info@hinckleymc.org
END:VEVENT
BEGIN:VEVENT
DTSTART;VALUE=DATE:20250613
DTEND;VALUE=DATE:20250616
DTSTAMP:20260425T172735
CREATED:20190514T220108Z
LAST-MODIFIED:20240806T205849Z
UID:1140-1749772800-1750031999@hinckleymc.org
SUMMARY:CAPEL CURIG WEEKEND Snowdonia
DESCRIPTION:Hut Meet Info \n \nBEDS: Four bedrooms\, all with en-suite shower and toilet\, able to sleep a total of 20 persons – ladies only room too. Excellent lounge\, kitchen\, central heating. Decking at rear overlooking the waterfall and a log fire if it gets chilly in the evening.\nCOST: £40 for the weekend\, plus around £3 /£4 for a two course dinner Sat night. Bring your own beer or wine (or tea) and don’t forget your other food for Fri/Sat\, trail fodder\, and your sleeping bag.                                     STUFF you need to know: The catering corps will be in action Sat night\, although you could try the Bryn Tyrch 200m away. Limited parking\, share if you can.                                                                                                                            BEST PUB : By far\, the Tan Y Coed in Capel. Excellent food\, free house however\, Plas y Brenin is also close by and serves food too. We’ll probably be in here Fri night.
URL:https://hinckleymc.org/event/capel-curig-weekend/
LOCATION:Glan Dwr\, A5\, Capel Curig\, LL24 0EN
ORGANIZER;CN="Ian Edwards":MAILTO:info@hinckleymc.org
END:VEVENT
BEGIN:VEVENT
DTSTART;TZID=Europe/London:20250618T183000
DTEND;TZID=Europe/London:20250618T210000
DTSTAMP:20260425T172735
CREATED:20210514T105902Z
LAST-MODIFIED:20250606T212317Z
UID:1892-1750271400-1750280400@hinckleymc.org
SUMMARY:Wed Evening Pub Walk - Red Lion Sapcote 6:30pm
DESCRIPTION:  \n \nUsual craic… rock up for 6.30pm departure. “Park ‘n Stride” for a 1.5-2hr walk followed by refreshments – free beer! All welcome\, always free\, and open to non-members.\nIf you can’t make the walk\, join us later for drinks in the sunny garden at the side. (Smallish car park so park on the road so the regulars can park). HMC – supporting our local pubs.
URL:https://hinckleymc.org/event/wed-evening-pub-walk-red-lion-sapcote/
LOCATION:Red Lion Sapcote\, 8 Church Street\, Sapcote\, LE9 4FG\, United Kingdom
ORGANIZER;CN="Ian Edwards":MAILTO:info@hinckleymc.org
END:VEVENT
BEGIN:VEVENT
DTSTART;TZID=Europe/London:20250625T183000
DTEND;TZID=Europe/London:20250625T210000
DTSTAMP:20260425T172735
CREATED:20220805T155321Z
LAST-MODIFIED:20250617T204605Z
UID:2151-1750876200-1750885200@hinckleymc.org
SUMMARY:Wed Evening Pub Walk The Rose Inn Baxterley 6:30pm
DESCRIPTION:Join us for the usual craic every week at 6:30 PM for a “Park and Stride” walk! We’ll head out for about 1.5 to 2 hours\, so don’t be late. The car park’s a bit small\, so car-sharing is a great idea if you can. \nEveryone’s welcome\, and it’s completely free\, including the post-walk beer! If you can’t make the stroll\, just meet us in the pub afterwards. HMC  – climbing\, walking and – supporting your local! \nGoing? See our Facebook page (Events) for more details!
URL:https://hinckleymc.org/event/wed-evening-pub-walk-the-rose-inn-baxterley-615pm/
LOCATION:The Rose Inn\, Main Road\, Baxterley\, CV9 2LE\, United Kingdom
ORGANIZER;CN="Ian Edwards":MAILTO:info@hinckleymc.org
END:VEVENT
BEGIN:VEVENT
DTSTART;TZID=Europe/London:20250629T100000
DTEND;TZID=Europe/London:20250629T160000
DTSTAMP:20260425T172735
CREATED:20220805T161859Z
LAST-MODIFIED:20250606T215334Z
UID:2158-1751191200-1751212800@hinckleymc.org
SUMMARY:DAYWALK - Peak District - Hartington 10
DESCRIPTION:Starting 10 am from Hartington village centre\, we’ll embark on a journey through ever-changing scenery up the Manifold Valley to Longnor. Prepare for some stunning high-level views before we descend for a well-earned pub stop! Then\, it’s back to Hartington via the Dove valley to complete this 10 ml circuit and maybe have some tales to tell! Park in the village square for free or one of the local car parks.
URL:https://hinckleymc.org/event/daywalk-peak-district-hartington-10/
LOCATION:Hartington\, Market Place\, Hartington\, SK17 0AL\, United Kingdom
ORGANIZER;CN="Ian Edwards":MAILTO:info@hinckleymc.org
END:VEVENT
END:VCALENDAR