BEGIN:VCALENDAR
VERSION:2.0
PRODID:-//Hinckley Hillwalking &amp; Climbing - ECPv6.13.2.1//NONSGML v1.0//EN
CALSCALE:GREGORIAN
METHOD:PUBLISH
X-WR-CALNAME:Hinckley Hillwalking &amp; Climbing
X-ORIGINAL-URL:https://hinckleymc.org
X-WR-CALDESC:Events for Hinckley Hillwalking &amp; Climbing
REFRESH-INTERVAL;VALUE=DURATION:PT1H
X-Robots-Tag:noindex
X-PUBLISHED-TTL:PT1H
BEGIN:VTIMEZONE
TZID:Europe/London
BEGIN:DAYLIGHT
TZOFFSETFROM:+0000
TZOFFSETTO:+0100
TZNAME:BST
DTSTART:20190331T010000
END:DAYLIGHT
BEGIN:STANDARD
TZOFFSETFROM:+0100
TZOFFSETTO:+0000
TZNAME:GMT
DTSTART:20191027T010000
END:STANDARD
END:VTIMEZONE
BEGIN:VEVENT
DTSTART;TZID=Europe/London:20190717T183000
DTEND;TZID=Europe/London:20190717T203000
DTSTAMP:20260426T035926
CREATED:20190704T105639Z
LAST-MODIFIED:20190704T105639Z
UID:1379-1563388200-1563395400@hinckleymc.org
SUMMARY:Wed Evening Pub Walk - The Malt Shovel Hartshill
DESCRIPTION:Usual craic… rock up for 6.30pm departure. “Park ‘n Stride” for a 1.5-2hr walk followed by refreshments – free beer!\nAll welcome\, always free\, and open to non-members. This weeks walk will be slightly different from the usual route\, and will be led by Stuart. If you can’t make the walk\, join us later for drinks in the pub. (Very small car park so car share if you can or park on the road\, about 200yds further on so the regulars can park).\n*An alternative route will also be taking place in Chamonix!
URL:https://hinckleymc.org/event/wed-evening-pub-walk-the-malt-shovel-hartshill/
LOCATION:Malt Shovel\, Grange Road\, Hartshill\, CV10 0SS
END:VEVENT
BEGIN:VEVENT
DTSTART;TZID=Europe/London:20190704T210000
DTEND;TZID=Europe/London:20190704T230000
DTSTAMP:20260426T035926
CREATED:20190531T133751Z
LAST-MODIFIED:20190622T190944Z
UID:1344-1562274000-1562281200@hinckleymc.org
SUMMARY:Club Night Meet Up - The Plough Hinckley
DESCRIPTION:Our regular informal and weekly meet up at the local pub … plotting our next adventures!\nWe meet here every Thursday evening EXCEPT the last Thursday of the month when we meet at a different pub in the Hinckley area (but only when it is quiz night at The Plough – the last Thurs of the month -Details will be published in advance of the pub we’ll be at on this website or our Facebook page) \nNOTE: NO MEET UP AT THE PUB ON THURS 26 JUNE \nPark outside or in the church car park opposite. Ask the friendly bar staff where we’re sitting.
URL:https://hinckleymc.org/event/club-night-meet-up-the-plough-hinckley/
LOCATION:The Plough Inn\, 24 Leicester Rd\, Hinckley\, Leics\, LE10 1LS
END:VEVENT
BEGIN:VEVENT
DTSTART;VALUE=DATE:20190627
DTEND;VALUE=DATE:20190701
DTSTAMP:20260426T035926
CREATED:20190514T222503Z
LAST-MODIFIED:20190523T100630Z
UID:1147-1561593600-1561939199@hinckleymc.org
SUMMARY:PATTERDALE WEEKEND
DESCRIPTION:Hut Meet Info \n \nBEDS: 20 Mixed in 2 dorms – however\, we try and reserve the smaller room for the ladies. Don’t forget your sleeping bag. Additional night is booked for Thurs.\nCOST: £12 a night payable on the weekend\, plus around £4 for a two course dinner. Bring your own beer or wine (or tea) and don’t forget your other food for Fri/Sat.\nSTUFF you need to know: Well equipped hut with cookers\, showers\, loos\, heating and open fire. Good drying facilities\, own car-park and is an excellent place to relax and enjoy the best of the Lakes. “One of the best”. If oversubscribed\, we can sometimes obtain the members room\, but won’t know until last minute (so book early!).\nPUB : White Lion\, Patterdale – we’ll be there Fri night\, & group cater on Sat.\n(Note: Additional night has been booked for Thursday if you can get time off)
URL:https://hinckleymc.org/event/patterdale-weekend/
LOCATION:George Starkey Hut\, Main Street\, Patterdale\, Cumbria\, CA11 0NL\, United Kingdom
ORGANIZER;CN="Ian Edwards":MAILTO:info@hinckleymc.org
END:VEVENT
BEGIN:VEVENT
DTSTART;VALUE=DATE:20190609
DTEND;VALUE=DATE:20190610
DTSTAMP:20260426T035926
CREATED:20190519T214633Z
LAST-MODIFIED:20190519T214633Z
UID:1231-1560038400-1560124799@hinckleymc.org
SUMMARY:Daywalk Peak District - Millers Dale & Monsal Head
DESCRIPTION:Limestone upland and cliff lined gorges will take us to the pub at Monsal Head with its superb views. An easy walk of about 11 mls. Meet at the old station car park Millers Dale GR SK 138733 10am departure. \nMonsal Dale in the Peak District on a misty autumn morning.
URL:https://hinckleymc.org/event/daywalk-peak-district-millers-dale-monsal-head/
LOCATION:Millers Dale Station\, Millers Dale Station\, Wormhill\, Buxton\, SK17 8SN
ORGANIZER;CN="Ian Edwards":MAILTO:info@hinckleymc.org
END:VEVENT
END:VCALENDAR