BEGIN:VCALENDAR
VERSION:2.0
PRODID:-//Hinckley Hillwalking &amp; Climbing - ECPv6.13.2.1//NONSGML v1.0//EN
CALSCALE:GREGORIAN
METHOD:PUBLISH
X-WR-CALNAME:Hinckley Hillwalking &amp; Climbing
X-ORIGINAL-URL:https://hinckleymc.org
X-WR-CALDESC:Events for Hinckley Hillwalking &amp; Climbing
REFRESH-INTERVAL;VALUE=DURATION:PT1H
X-Robots-Tag:noindex
X-PUBLISHED-TTL:PT1H
BEGIN:VTIMEZONE
TZID:Europe/London
BEGIN:DAYLIGHT
TZOFFSETFROM:+0000
TZOFFSETTO:+0100
TZNAME:BST
DTSTART:20250330T010000
END:DAYLIGHT
BEGIN:STANDARD
TZOFFSETFROM:+0100
TZOFFSETTO:+0000
TZNAME:GMT
DTSTART:20251026T010000
END:STANDARD
END:VTIMEZONE
BEGIN:VEVENT
DTSTART;TZID=Europe/London:20251120T203000
DTEND;TZID=Europe/London:20251120T220000
DTSTAMP:20260425T113947
CREATED:20221214T133245Z
LAST-MODIFIED:20251028T105241Z
UID:2247-1763670600-1763676000@hinckleymc.org
SUMMARY:Thurs Night Meet Up - The Plough Hinckley 8.30pm
DESCRIPTION:Ready for some adventure? Join our informal weekly meet-up every Thursday evening at our local pub!\nBut here’s the twist: on the last Thursday of the month\, if it’s quiz night at The Plough\, we’ll be at a different pub in the Hinckley area. We’ll post details about the alternate pub on this website and our Facebook page\, so you’ll always know where to find us. \nYou can park outside the pub or in the church car park right opposite. Once you’re inside\, just ask the friendly bar staff where our group is plotting our next escapades! Look for the fleece jackets! \n 
URL:https://hinckleymc.org/event/club-night-meet-up-the-plough-hinckley-8-30pm-6/
LOCATION:The Plough Inn\, 24 Leicester Rd\, Hinckley\, Leics\, LE10 1LS
ORGANIZER;CN="Ian Edwards":MAILTO:info@hinckleymc.org
END:VEVENT
END:VCALENDAR