BEGIN:VCALENDAR
VERSION:2.0
PRODID:-//Hinckley Hillwalking &amp; Climbing - ECPv6.13.2.1//NONSGML v1.0//EN
CALSCALE:GREGORIAN
METHOD:PUBLISH
X-ORIGINAL-URL:https://hinckleymc.org
X-WR-CALDESC:Events for Hinckley Hillwalking &amp; Climbing
REFRESH-INTERVAL;VALUE=DURATION:PT1H
X-Robots-Tag:noindex
X-PUBLISHED-TTL:PT1H
BEGIN:VTIMEZONE
TZID:Europe/London
BEGIN:DAYLIGHT
TZOFFSETFROM:+0000
TZOFFSETTO:+0100
TZNAME:BST
DTSTART:20250330T010000
END:DAYLIGHT
BEGIN:STANDARD
TZOFFSETFROM:+0100
TZOFFSETTO:+0000
TZNAME:GMT
DTSTART:20251026T010000
END:STANDARD
END:VTIMEZONE
BEGIN:VEVENT
DTSTART;TZID=Europe/London:20251113T200000
DTEND;TZID=Europe/London:20251113T220000
DTSTAMP:20260425T114046
CREATED:20191114T120335Z
LAST-MODIFIED:20251028T105802Z
UID:1690-1763064000-1763071200@hinckleymc.org
SUMMARY:AGM - The Greyhound Thurs 13 Nov 8pm - all welcome!
DESCRIPTION:Our annual AGM – where we elect a new committee and chat about all the good stuff we’ve done over the last year and all the good stuff that’s about happen in 2026. Something like that.
URL:https://hinckleymc.org/event/agm-thurs-21-nov-8pm-all-welcome/
LOCATION:The Greyhound Inn\, New Buildings\, Hinckley\, United Kingdom
ORGANIZER;CN="Ian Edwards":MAILTO:info@hinckleymc.org
END:VEVENT
END:VCALENDAR