BEGIN:VCALENDAR
VERSION:2.0
PRODID:-//Hinckley Hillwalking &amp; Climbing - ECPv6.13.2.1//NONSGML v1.0//EN
CALSCALE:GREGORIAN
METHOD:PUBLISH
X-WR-CALNAME:Hinckley Hillwalking &amp; Climbing
X-ORIGINAL-URL:https://hinckleymc.org
X-WR-CALDESC:Events for Hinckley Hillwalking &amp; Climbing
REFRESH-INTERVAL;VALUE=DURATION:PT1H
X-Robots-Tag:noindex
X-PUBLISHED-TTL:PT1H
BEGIN:VTIMEZONE
TZID:Europe/London
BEGIN:DAYLIGHT
TZOFFSETFROM:+0000
TZOFFSETTO:+0100
TZNAME:BST
DTSTART:20250330T010000
END:DAYLIGHT
BEGIN:STANDARD
TZOFFSETFROM:+0100
TZOFFSETTO:+0000
TZNAME:GMT
DTSTART:20251026T010000
END:STANDARD
END:VTIMEZONE
BEGIN:VEVENT
DTSTART;TZID=Europe/London:20251106T203000
DTEND;TZID=Europe/London:20251106T220000
DTSTAMP:20260425T113941
CREATED:20240811T201406Z
LAST-MODIFIED:20251028T104407Z
UID:2486-1762461000-1762466400@hinckleymc.org
SUMMARY:Thurs Night Meet Up - The Plough Hinckley 8.30pm
DESCRIPTION:Our regular informal and weekly meet up at the local pub … plotting our next adventures!\nWe meet here every Thursday evening EXCEPT the last Thursday of the month when we meet at a different pub in the Hinckley area (but only when it is quiz night at The Plough – the last Thurs of the month -Details will be published in advance of the pub we’ll be at on this website or our Facebook page) \nPark outside or in the church car park opposite. Ask the friendly bar staff where we’re sitting.
URL:https://hinckleymc.org/event/thurs-night-meet-up-the-plough-hinckley-8-30pm-2/
LOCATION:The Plough Inn\, 24 Leicester Rd\, Hinckley\, Leics\, LE10 1LS
ORGANIZER;CN="Ian Edwards":MAILTO:info@hinckleymc.org
END:VEVENT
END:VCALENDAR