BEGIN:VCALENDAR
VERSION:2.0
PRODID:-//Hinckley Hillwalking &amp; Climbing - ECPv6.13.2.1//NONSGML v1.0//EN
CALSCALE:GREGORIAN
METHOD:PUBLISH
X-ORIGINAL-URL:https://hinckleymc.org
X-WR-CALDESC:Events for Hinckley Hillwalking &amp; Climbing
REFRESH-INTERVAL;VALUE=DURATION:PT1H
X-Robots-Tag:noindex
X-PUBLISHED-TTL:PT1H
BEGIN:VTIMEZONE
TZID:Europe/London
BEGIN:DAYLIGHT
TZOFFSETFROM:+0000
TZOFFSETTO:+0100
TZNAME:BST
DTSTART:20250330T010000
END:DAYLIGHT
BEGIN:STANDARD
TZOFFSETFROM:+0100
TZOFFSETTO:+0000
TZNAME:GMT
DTSTART:20251026T010000
END:STANDARD
END:VTIMEZONE
BEGIN:VEVENT
DTSTART;TZID=Europe/London:20251019T100000
DTEND;TZID=Europe/London:20251019T160000
DTSTAMP:20260425T130545
CREATED:20200101T232657Z
LAST-MODIFIED:20250617T204353Z
UID:1740-1760868000-1760889600@hinckleymc.org
SUMMARY:Daywalk - Winchcombe & Hailes Abbey - Cotswolds
DESCRIPTION:Join Us for a Historic Cotswold Walk!\nGet ready for a relatively easy walk along part of the Cotswold Way\, combining splendid scenery with considerable historic appeal. We’ll be making a pub stop at the 15th-century Plaisterers Arms. \nMeet at the free National Trust car park opposite the entrance to Hailes Abbey for a prompt 10 AM departure. \nGoing? See our Facebook page (Events) for more details! \n 
URL:https://hinckleymc.org/event/daywalk-winchcombe-hailes-abbey-cotswolds/
LOCATION:Hailes Abbey\, Hailes\, Cheltenham\, GL54 5PB
ORGANIZER;CN="Ian Edwards":MAILTO:info@hinckleymc.org
END:VEVENT
END:VCALENDAR