BEGIN:VCALENDAR
VERSION:2.0
PRODID:-//Hinckley Hillwalking &amp; Climbing - ECPv6.13.2.1//NONSGML v1.0//EN
CALSCALE:GREGORIAN
METHOD:PUBLISH
X-WR-CALNAME:Hinckley Hillwalking &amp; Climbing
X-ORIGINAL-URL:https://hinckleymc.org
X-WR-CALDESC:Events for Hinckley Hillwalking &amp; Climbing
REFRESH-INTERVAL;VALUE=DURATION:PT1H
X-Robots-Tag:noindex
X-PUBLISHED-TTL:PT1H
BEGIN:VTIMEZONE
TZID:Europe/London
BEGIN:DAYLIGHT
TZOFFSETFROM:+0000
TZOFFSETTO:+0100
TZNAME:BST
DTSTART:20250330T010000
END:DAYLIGHT
BEGIN:STANDARD
TZOFFSETFROM:+0100
TZOFFSETTO:+0000
TZNAME:GMT
DTSTART:20251026T010000
END:STANDARD
END:VTIMEZONE
BEGIN:VEVENT
DTSTART;TZID=Europe/London:20250904T160000
DTEND;TZID=Europe/London:20250907T100000
DTSTAMP:20260425T143129
CREATED:20241125T161659Z
LAST-MODIFIED:20241125T161659Z
UID:2518-1757001600-1757239200@hinckleymc.org
SUMMARY:SEATHWAITE WEEKEND Lake District - 3 nights
DESCRIPTION:High House is a restored and converted 16th/17th century farmhouse situated near the hamlet of Seathwaite in Borrowdale. We’ve been coming here for over 40 years and it’s in a superb location.BEDS: 26 Mixed in 2 dorms – and we reserve the smaller room for the ladies. Don’t forget your sleeping bag. Additional night is booked for Thurs.COST: TBC for 2 nights (min 2) payable on the weekend or before\, plus around £4 for a two course dinner. Bring your own beer or wine (or tea) and don’t forget your other food for Fri/Sat. and out on the hill.STUFF you need to know: Well equipped hut with cookers\, showers\, loos\, heating and open fire. Good drying facilities\, own car-park and is an excellent place to relax and enjoy the best of the Lakes. “One of the best”.HOW TO BOOK: Email the Meets Booking Sec on info@hinckleymc.org . You could also enter “going” on our Facebook site\, but please note that “interested” is not the same as “going”. A reserve list will operate when meets are full and members will have priority
URL:https://hinckleymc.org/event/seathwaite-weekend-lake-district-3-nights/
END:VEVENT
END:VCALENDAR