BEGIN:VCALENDAR
VERSION:2.0
PRODID:-//Hinckley Hillwalking &amp; Climbing - ECPv6.13.2.1//NONSGML v1.0//EN
CALSCALE:GREGORIAN
METHOD:PUBLISH
X-WR-CALNAME:Hinckley Hillwalking &amp; Climbing
X-ORIGINAL-URL:https://hinckleymc.org
X-WR-CALDESC:Events for Hinckley Hillwalking &amp; Climbing
REFRESH-INTERVAL;VALUE=DURATION:PT1H
X-Robots-Tag:noindex
X-PUBLISHED-TTL:PT1H
BEGIN:VTIMEZONE
TZID:Europe/London
BEGIN:DAYLIGHT
TZOFFSETFROM:+0000
TZOFFSETTO:+0100
TZNAME:BST
DTSTART:20250330T010000
END:DAYLIGHT
BEGIN:STANDARD
TZOFFSETFROM:+0100
TZOFFSETTO:+0000
TZNAME:GMT
DTSTART:20251026T010000
END:STANDARD
END:VTIMEZONE
BEGIN:VEVENT
DTSTART;TZID=Europe/London:20250820T183000
DTEND;TZID=Europe/London:20250820T213000
DTSTAMP:20260425T155837
CREATED:20200305T161809Z
LAST-MODIFIED:20250803T221708Z
UID:1780-1755714600-1755725400@hinckleymc.org
SUMMARY:Wed Evening Pub Walk - Pig in Muck Claybrooke
DESCRIPTION:Usual craic… rock up for 6.30pm departure. “Park ‘n Stride” for a 1.5hr walk followed by refreshments – free beer as usual.\nAll welcome\, always free\, and open to non-members. If you can’t make the walk\, join us later at 7.30 ish and maybe some Morris dancing!\nVERY SMALL car park – car share if you are able\, or park on the road – anywhere but the car park.
URL:https://hinckleymc.org/event/wed-evening-pub-walk-1st-april-pig-in-muck-claybrooke-magna/
LOCATION:Pig in Muck\, Manor Road\, Claybrooke Magna\, LE17 5AY
ORGANIZER;CN="Ian Edwards":MAILTO:info@hinckleymc.org
END:VEVENT
END:VCALENDAR