BEGIN:VCALENDAR
VERSION:2.0
PRODID:-//Hinckley Hillwalking &amp; Climbing - ECPv6.13.2.1//NONSGML v1.0//EN
CALSCALE:GREGORIAN
METHOD:PUBLISH
X-WR-CALNAME:Hinckley Hillwalking &amp; Climbing
X-ORIGINAL-URL:https://hinckleymc.org
X-WR-CALDESC:Events for Hinckley Hillwalking &amp; Climbing
REFRESH-INTERVAL;VALUE=DURATION:PT1H
X-Robots-Tag:noindex
X-PUBLISHED-TTL:PT1H
BEGIN:VTIMEZONE
TZID:Europe/London
BEGIN:DAYLIGHT
TZOFFSETFROM:+0000
TZOFFSETTO:+0100
TZNAME:BST
DTSTART:20250330T010000
END:DAYLIGHT
BEGIN:STANDARD
TZOFFSETFROM:+0100
TZOFFSETTO:+0000
TZNAME:GMT
DTSTART:20251026T010000
END:STANDARD
END:VTIMEZONE
BEGIN:VEVENT
DTSTART;TZID=Europe/London:20250806T183000
DTEND;TZID=Europe/London:20250806T211500
DTSTAMP:20260425T155839
CREATED:20190820T145152Z
LAST-MODIFIED:20250803T214321Z
UID:1455-1754505000-1754514900@hinckleymc.org
SUMMARY:Wed Evening Pub Walk - Bricklayers Arms Sharnford
DESCRIPTION:Usual craic… rock up for 6.3opm departure. “Park ‘n Stride” for a short walk followed by refreshments – free beer! All welcome\, always free\, and open to non-members. \nIf you can’t make the walk\, join us later for beer. Small car park – car share if you are able and don’t use the car park as they need it for diners. Park up the road\, or just about anywhere if you can.
URL:https://hinckleymc.org/event/wed-evening-pub-walk-carvery-pig-in-muck-claybrooke-magna/
LOCATION:The Bricklayers\, 23 Leicester Rd\, Sharnford\, LE10 3PP\, United Kingdom
ORGANIZER;CN="Ian Edwards":MAILTO:info@hinckleymc.org
END:VEVENT
END:VCALENDAR