BEGIN:VCALENDAR
VERSION:2.0
PRODID:-//Hinckley Hillwalking &amp; Climbing - ECPv6.13.2.1//NONSGML v1.0//EN
CALSCALE:GREGORIAN
METHOD:PUBLISH
X-ORIGINAL-URL:https://hinckleymc.org
X-WR-CALDESC:Events for Hinckley Hillwalking &amp; Climbing
REFRESH-INTERVAL;VALUE=DURATION:PT1H
X-Robots-Tag:noindex
X-PUBLISHED-TTL:PT1H
BEGIN:VTIMEZONE
TZID:Europe/London
BEGIN:DAYLIGHT
TZOFFSETFROM:+0000
TZOFFSETTO:+0100
TZNAME:BST
DTSTART:20250330T010000
END:DAYLIGHT
BEGIN:STANDARD
TZOFFSETFROM:+0100
TZOFFSETTO:+0000
TZNAME:GMT
DTSTART:20251026T010000
END:STANDARD
END:VTIMEZONE
BEGIN:VEVENT
DTSTART;TZID=Europe/London:20250716T183000
DTEND;TZID=Europe/London:20250716T210000
DTSTAMP:20260425T172209
CREATED:20250708T112553Z
LAST-MODIFIED:20250708T112553Z
UID:2483-1752690600-1752699600@hinckleymc.org
SUMMARY:Wed Evening Pub Walk - The Rising Sun Shackerstone 6:30pm
DESCRIPTION:Usual craic- rock up for a 6:30pm departure for a 1.5-2hrs max walk followed by refreshments in this lovely old country inn. If you can’t make the walk – why not join us about 8ish for a beer either in the lounge or the beer garden. Smallish car park\, please park on the road\, or around the corner.\nHMC – supporting your local.
URL:https://hinckleymc.org/event/wed-evening-pub-walk-the-rising-sun-shackerstone-630pm/
LOCATION:Rising Sun\, Church Road\, Shackerstone\, CV13 6NN
ORGANIZER;CN="Ian Edwards":MAILTO:info@hinckleymc.org
END:VEVENT
END:VCALENDAR