BEGIN:VCALENDAR
VERSION:2.0
PRODID:-//Hinckley Hillwalking &amp; Climbing - ECPv6.13.2.1//NONSGML v1.0//EN
CALSCALE:GREGORIAN
METHOD:PUBLISH
X-WR-CALNAME:Hinckley Hillwalking &amp; Climbing
X-ORIGINAL-URL:https://hinckleymc.org
X-WR-CALDESC:Events for Hinckley Hillwalking &amp; Climbing
REFRESH-INTERVAL;VALUE=DURATION:PT1H
X-Robots-Tag:noindex
X-PUBLISHED-TTL:PT1H
BEGIN:VTIMEZONE
TZID:Europe/London
BEGIN:DAYLIGHT
TZOFFSETFROM:+0000
TZOFFSETTO:+0100
TZNAME:BST
DTSTART:20250330T010000
END:DAYLIGHT
BEGIN:STANDARD
TZOFFSETFROM:+0100
TZOFFSETTO:+0000
TZNAME:GMT
DTSTART:20251026T010000
END:STANDARD
END:VTIMEZONE
BEGIN:VEVENT
DTSTART;TZID=Europe/London:20250629T100000
DTEND;TZID=Europe/London:20250629T160000
DTSTAMP:20260425T185424
CREATED:20220805T161859Z
LAST-MODIFIED:20250606T215334Z
UID:2158-1751191200-1751212800@hinckleymc.org
SUMMARY:DAYWALK - Peak District - Hartington 10
DESCRIPTION:Starting 10 am from Hartington village centre\, we’ll embark on a journey through ever-changing scenery up the Manifold Valley to Longnor. Prepare for some stunning high-level views before we descend for a well-earned pub stop! Then\, it’s back to Hartington via the Dove valley to complete this 10 ml circuit and maybe have some tales to tell! Park in the village square for free or one of the local car parks.
URL:https://hinckleymc.org/event/daywalk-peak-district-hartington-10/
LOCATION:Hartington\, Market Place\, Hartington\, SK17 0AL\, United Kingdom
ORGANIZER;CN="Ian Edwards":MAILTO:info@hinckleymc.org
END:VEVENT
END:VCALENDAR