BEGIN:VCALENDAR
VERSION:2.0
PRODID:-//Hinckley Hillwalking &amp; Climbing - ECPv6.13.2.1//NONSGML v1.0//EN
CALSCALE:GREGORIAN
METHOD:PUBLISH
X-WR-CALNAME:Hinckley Hillwalking &amp; Climbing
X-ORIGINAL-URL:https://hinckleymc.org
X-WR-CALDESC:Events for Hinckley Hillwalking &amp; Climbing
REFRESH-INTERVAL;VALUE=DURATION:PT1H
X-Robots-Tag:noindex
X-PUBLISHED-TTL:PT1H
BEGIN:VTIMEZONE
TZID:Europe/London
BEGIN:DAYLIGHT
TZOFFSETFROM:+0000
TZOFFSETTO:+0100
TZNAME:BST
DTSTART:20250330T010000
END:DAYLIGHT
BEGIN:STANDARD
TZOFFSETFROM:+0100
TZOFFSETTO:+0000
TZNAME:GMT
DTSTART:20251026T010000
END:STANDARD
END:VTIMEZONE
BEGIN:VEVENT
DTSTART;VALUE=DATE:20250613
DTEND;VALUE=DATE:20250616
DTSTAMP:20260425T185421
CREATED:20190514T220108Z
LAST-MODIFIED:20240806T205849Z
UID:1140-1749772800-1750031999@hinckleymc.org
SUMMARY:CAPEL CURIG WEEKEND Snowdonia
DESCRIPTION:Hut Meet Info \n \nBEDS: Four bedrooms\, all with en-suite shower and toilet\, able to sleep a total of 20 persons – ladies only room too. Excellent lounge\, kitchen\, central heating. Decking at rear overlooking the waterfall and a log fire if it gets chilly in the evening.\nCOST: £40 for the weekend\, plus around £3 /£4 for a two course dinner Sat night. Bring your own beer or wine (or tea) and don’t forget your other food for Fri/Sat\, trail fodder\, and your sleeping bag.                                     STUFF you need to know: The catering corps will be in action Sat night\, although you could try the Bryn Tyrch 200m away. Limited parking\, share if you can.                                                                                                                            BEST PUB : By far\, the Tan Y Coed in Capel. Excellent food\, free house however\, Plas y Brenin is also close by and serves food too. We’ll probably be in here Fri night.
URL:https://hinckleymc.org/event/capel-curig-weekend/
LOCATION:Glan Dwr\, A5\, Capel Curig\, LL24 0EN
ORGANIZER;CN="Ian Edwards":MAILTO:info@hinckleymc.org
END:VEVENT
END:VCALENDAR