BEGIN:VCALENDAR
VERSION:2.0
PRODID:-//Hinckley Hillwalking &amp; Climbing - ECPv6.13.2.1//NONSGML v1.0//EN
CALSCALE:GREGORIAN
METHOD:PUBLISH
X-ORIGINAL-URL:https://hinckleymc.org
X-WR-CALDESC:Events for Hinckley Hillwalking &amp; Climbing
REFRESH-INTERVAL;VALUE=DURATION:PT1H
X-Robots-Tag:noindex
X-PUBLISHED-TTL:PT1H
BEGIN:VTIMEZONE
TZID:Europe/London
BEGIN:DAYLIGHT
TZOFFSETFROM:+0000
TZOFFSETTO:+0100
TZNAME:BST
DTSTART:20250330T010000
END:DAYLIGHT
BEGIN:STANDARD
TZOFFSETFROM:+0100
TZOFFSETTO:+0000
TZNAME:GMT
DTSTART:20251026T010000
END:STANDARD
END:VTIMEZONE
BEGIN:VEVENT
DTSTART;TZID=Europe/London:20250315T160000
DTEND;TZID=Europe/London:20250321T160000
DTSTAMP:20260425T234530
CREATED:20220513T103022Z
LAST-MODIFIED:20250210T164328Z
UID:2110-1742054400-1742572800@hinckleymc.org
SUMMARY:SCOTTISH WINTER WEEK Cairngorms Mar 15-21
DESCRIPTION:Two apartments booked giving us 18 spaces (mainly twins/singles) in this excellent house. We’ve been before and we liked it! There’s lots to do on the estate\,  before we head out into the mountains and make the most of the great outdoors. Alvie Estate is just 5 miles from Aviemore and 35miles from Inverness. \nFurther details to follow. Cost £185
URL:https://hinckleymc.org/event/scottish-winter-week-cairngorms/
LOCATION:Alvie Estate\, Kincraig\, Kingussie\, PH21 1NE\, United Kingdom
ORGANIZER;CN="Ian Edwards":MAILTO:info@hinckleymc.org
END:VEVENT
END:VCALENDAR