BEGIN:VCALENDAR
VERSION:2.0
PRODID:-//Hinckley Hillwalking &amp; Climbing - ECPv6.13.2.1//NONSGML v1.0//EN
CALSCALE:GREGORIAN
METHOD:PUBLISH
X-WR-CALNAME:Hinckley Hillwalking &amp; Climbing
X-ORIGINAL-URL:https://hinckleymc.org
X-WR-CALDESC:Events for Hinckley Hillwalking &amp; Climbing
REFRESH-INTERVAL;VALUE=DURATION:PT1H
X-Robots-Tag:noindex
X-PUBLISHED-TTL:PT1H
BEGIN:VTIMEZONE
TZID:Europe/London
BEGIN:DAYLIGHT
TZOFFSETFROM:+0000
TZOFFSETTO:+0100
TZNAME:BST
DTSTART:20250330T010000
END:DAYLIGHT
BEGIN:STANDARD
TZOFFSETFROM:+0100
TZOFFSETTO:+0000
TZNAME:GMT
DTSTART:20251026T010000
END:STANDARD
END:VTIMEZONE
BEGIN:VEVENT
DTSTART;TZID=Europe/London:20250223T160000
DTEND;TZID=Europe/London:20250302T100000
DTSTAMP:20260425T234451
CREATED:20220513T103613Z
LAST-MODIFIED:20240616T105503Z
UID:2114-1740326400-1740909600@hinckleymc.org
SUMMARY:SKI WEEK - Meribel Three Vallees France
DESCRIPTION:  \n \nAnother season to be cheerful. We have 14 places booked and confirmed for skiing Sun Feb 23rd – Meribel Les Allues\, Three Vallees\, France (Fully catered). Just a few places left. Some are flying; some driving\, some hoping for a train! (For info\, there are no beginners or non-skiers going).CATERED CHALET\, MERIBEL LES ALLUESThis superbly positioned chalet is in a prime location. Just a few minutes stroll to the Olympe lift gives you direct access to the Meribel slopes and is your gateway to the fantastic 3 valleys ski area.Chalet Foehn benefits from its central spot within easy reach of the skiing\, shops\, lively bar and restaurants in this attractive alpine village.It offers all the comfort and space you could wish for. Built tastefully and to exacting high standards\, it is extremely popular. It has the additional feature of outdoor hot-tub exclusive to our chalet; a great way to relax and unwind in a magnificent mountain setting. https://www.skiblanc.co.uk/chalet-foehn.htmWe’ve been here before.  Contact Ed directly for full details and availability.
URL:https://hinckleymc.org/event/ski-week-meribel-three-vallees-france/
LOCATION:Meibel\, France
ORGANIZER;CN="Ian Edwards":MAILTO:info@hinckleymc.org
END:VEVENT
END:VCALENDAR