BEGIN:VCALENDAR
VERSION:2.0
PRODID:-//Hinckley Hillwalking &amp; Climbing - ECPv6.13.2.1//NONSGML v1.0//EN
CALSCALE:GREGORIAN
METHOD:PUBLISH
X-ORIGINAL-URL:https://hinckleymc.org
X-WR-CALDESC:Events for Hinckley Hillwalking &amp; Climbing
REFRESH-INTERVAL;VALUE=DURATION:PT1H
X-Robots-Tag:noindex
X-PUBLISHED-TTL:PT1H
BEGIN:VTIMEZONE
TZID:Europe/London
BEGIN:DAYLIGHT
TZOFFSETFROM:+0000
TZOFFSETTO:+0100
TZNAME:BST
DTSTART:20250330T010000
END:DAYLIGHT
BEGIN:STANDARD
TZOFFSETFROM:+0100
TZOFFSETTO:+0000
TZNAME:GMT
DTSTART:20251026T010000
END:STANDARD
END:VTIMEZONE
BEGIN:VEVENT
DTSTART;TZID=Europe/London:20250117T160000
DTEND;TZID=Europe/London:20250119T100000
DTSTAMP:20260426T023518
CREATED:20190919T125339Z
LAST-MODIFIED:20240806T205213Z
UID:1532-1737129600-1737280800@hinckleymc.org
SUMMARY:RHAYADER WEEKEND Elan Valley Mid Wales
DESCRIPTION:Meet Info Rhyader PDF \n \nBEDS: 16 in three en-suite bedrooms of 2×6 ;1×4 – All bed linen is provided for the bunks with duvets. (Additional B&B adjoining- make your own bookings though) \nCOST: £39 for the weekend plus maybe £4 for our group meal on Saturday night. Bring your own beer or wine (free tea) and don’t forget your other food for Fri/Sat. \nMORE INFO:  The kitchen/diner provides space for everyone and there is an additional relaxed seating area on the first floor. Heating/Cooking Facilities: The well equipped kitchen has cooker\, microwave\, fridge\, toasters\, kettles and double sink. The barn is centrally heated. There is also a drying room for all your wet gear although the long term weather forecast is bright and sunny! (Additional nights could be arranged if so desired) \nBEST PUB: Rhayader  (2 miles up the lane) has a plethora of pubs  and eateries. \nHOW TO BOOK: For security contact the Meets Booking Sec on info@hinckleymc.org . You could also enter “going” on our Facebook & Meetup sites\, but please note that “interested” is not the same as “going”. You will receive confirmation by email. A reserve list will operate when meets are full and members will have priority
URL:https://hinckleymc.org/event/rhayader-weekend-elan-valley-mid-wales/
LOCATION:Beili Neuadd\, Rhyader\, Powys\, LD6 5NS
ORGANIZER;CN="Ian Edwards":MAILTO:info@hinckleymc.org
END:VEVENT
END:VCALENDAR