BEGIN:VCALENDAR
VERSION:2.0
PRODID:-//Hinckley Hillwalking &amp; Climbing - ECPv6.13.2.1//NONSGML v1.0//EN
CALSCALE:GREGORIAN
METHOD:PUBLISH
X-WR-CALNAME:Hinckley Hillwalking &amp; Climbing
X-ORIGINAL-URL:https://hinckleymc.org
X-WR-CALDESC:Events for Hinckley Hillwalking &amp; Climbing
REFRESH-INTERVAL;VALUE=DURATION:PT1H
X-Robots-Tag:noindex
X-PUBLISHED-TTL:PT1H
BEGIN:VTIMEZONE
TZID:Europe/London
BEGIN:DAYLIGHT
TZOFFSETFROM:+0000
TZOFFSETTO:+0100
TZNAME:BST
DTSTART:20240331T010000
END:DAYLIGHT
BEGIN:STANDARD
TZOFFSETFROM:+0100
TZOFFSETTO:+0000
TZNAME:GMT
DTSTART:20241027T010000
END:STANDARD
END:VTIMEZONE
BEGIN:VEVENT
DTSTART;TZID=Europe/London:20241217T180000
DTEND;TZID=Europe/London:20241217T210000
DTSTAMP:20260426T041715
CREATED:20240811T200242Z
LAST-MODIFIED:20241130T142953Z
UID:2476-1734458400-1734469200@hinckleymc.org
SUMMARY:Climbing - Every Tuesday - Warwick Wall 6pm
DESCRIPTION:A merry band of climbers can be found at our local wall most weeks from around 6-9 pm. If the weather is good they’ll maybe head up to the Peak District on a Sunday\, or for a change\, one of the other indoor walls in the area. \nNot sure how many will be here tonight as we’re climbing in Cornwall for a long weekend \n(Everyone will need to book in at Warwick\, and pay £1 parking\, which is easier online) \n 
URL:https://hinckleymc.org/event/climbing-every-tuesday-warwick-wall-6pm-4/
LOCATION:Bear Rock\, Sports & Wellness Centre\, Leighfield Road\, Coventry\, CV4 7EU
ORGANIZER;CN="Ian Edwards":MAILTO:info@hinckleymc.org
END:VEVENT
END:VCALENDAR