BEGIN:VCALENDAR
VERSION:2.0
PRODID:-//Hinckley Hillwalking &amp; Climbing - ECPv6.13.2.1//NONSGML v1.0//EN
CALSCALE:GREGORIAN
METHOD:PUBLISH
X-ORIGINAL-URL:https://hinckleymc.org
X-WR-CALDESC:Events for Hinckley Hillwalking &amp; Climbing
REFRESH-INTERVAL;VALUE=DURATION:PT1H
X-Robots-Tag:noindex
X-PUBLISHED-TTL:PT1H
BEGIN:VTIMEZONE
TZID:Europe/London
BEGIN:DAYLIGHT
TZOFFSETFROM:+0000
TZOFFSETTO:+0100
TZNAME:BST
DTSTART:20240331T010000
END:DAYLIGHT
BEGIN:STANDARD
TZOFFSETFROM:+0100
TZOFFSETTO:+0000
TZNAME:GMT
DTSTART:20241027T010000
END:STANDARD
END:VTIMEZONE
BEGIN:VEVENT
DTSTART;TZID=Europe/London:20241129T160000
DTEND;TZID=Europe/London:20241201T100000
DTSTAMP:20260426T041827
CREATED:20221113T213050Z
LAST-MODIFIED:20231029T124213Z
UID:2191-1732896000-1733047200@hinckleymc.org
SUMMARY:LLANBERIS WEEKEND Chamois Mountain Centre Llanberis Snowdonia
DESCRIPTION:BEDS: 2o in numerous rooms – with both male and female rooms allocated accordingly \nCOST: £35 the weekend\, payable on or before the event\, plus around £3 for a two-course dinner Saturday evening. Bring your own beer\, wine or tea and don’t forget your other food for Fri/Sat and a sleeping bag is necessary. \nSTUFF you need to know: Ideal base within a short drive of Llanberis and Caernarfon and offers self-catered\, bunk bed style accommodation. It’s within easy reach of all of the popular hill walking areas such as the Llanberis Pass\, Ogwen and Beddgelert and is ideally situated for any group wishing to walk\, mountaineer or climb in the mountains of Snowdonia. It is even possible to walk from the centre over Moel Eilio and thence to the summit of Snowdon itself. The centre forms an excellent base for rock climbing at areas such as the slate quarries\, the Llanberis Pass and Tremadog. Canoeing and sailing facilities are also easily accessible at the coast and on Anglesey. \nBEST PUB: Locally\, The Snowdonia Parc Inn – a real ale pub with its own microbrewery that has won many CAMRA Pub of the Year awards for the local region \nHOW TO BOOK: Email the Meets Booking Sec on info@hinckleymc.org. You could also enter “going” on our Facebook site\, but please note that “interested” is not the same as “going”. You will receive confirmation by email. A reserve list will operate when meets are full.
URL:https://hinckleymc.org/event/llanberis-weekend-chamois-mountain-centre-snowdonia/
LOCATION:Chamois Mountain Centre\, Marconi Road\, Ceunant\, Llanberis\, Caernarvon\, LL55 4SA\, United Kingdom
ORGANIZER;CN="Ian Edwards":MAILTO:info@hinckleymc.org
END:VEVENT
END:VCALENDAR